BEGIN:VCALENDAR
VERSION:2.0
PRODID:-//ChamberMaster//Event Calendar 2.0//EN
METHOD:PUBLISH
X-PUBLISHED-TTL:P1H
REFRESH-INTERVAL:P1H
CALSCALE:GREGORIAN
BEGIN:VTIMEZONE
TZID:America/New_York
BEGIN:DAYLIGHT
RRULE:FREQ=YEARLY;BYMONTH=3;BYDAY=2SU
DTSTART:20070101T000000
TZOFFSETFROM:-0500
TZOFFSETTO:-0400
TZNAME:Eastern Daylight Time
END:DAYLIGHT
BEGIN:STANDARD
RRULE:FREQ=YEARLY;BYMONTH=11;BYDAY=1SU
DTSTART:20070101T000000
TZOFFSETFROM:-0400
TZOFFSETTO:-0500
TZNAME:Eastern Standard Time
END:STANDARD
END:VTIMEZONE
BEGIN:VEVENT
DTSTART;TZID=America/New_York:20260509T083000
DTEND;TZID=America/New_York:20260509T230000
X-MICROSOFT-CDO-ALLDAYEVENT:FALSE
SUMMARY:Adopt a River - Community Clean Up
DESCRIPTION:Adopt a River was started by BWL in 1994 to restore pride in one of our area's great natural resources. The event encourages businesses\, unions\, schools and civic groups to adopt sections of the Grand and Red Cedar rivers and to keep their banks and nearby areas clean and free from litter.Help us keep our local rivers and adjacent spaces beautiful! As a participant\, please:\n- Bring your own gloves for clean-upSchedule:\n- River Clean-up from 8:30am - 11amSince the program began\, nearly 500 Adopt a River volunteers each year have cleared thousands of pounds of litter from the rivers and banks. They are a major reason why Lansing resources are being returned to their natural beauty and why the event has been award winning\, setting an example for other communities to follow.For more information or to sign up for the next river cleanup\, please call: Erik Larson\, Impression 5 Science Center\, 517-485-8116 ext. 143 or visit www.impression5.org.
X-ALT-DESC;FMTTYPE=text/html:<!DOCTYPE html><html><head><title></title></head><body aria-disabled="false"><p style="box-sizing: inherit\; color: rgb(0\, 0\, 0)\; font-family: proxima-nova\, sans-serif\; font-size: 19px\; font-style: normal\; font-variant-ligatures: normal\; font-variant-caps: normal\; font-weight: 400\; letter-spacing: normal\; orphans: 2\; text-align: start\; text-indent: 0px\; text-transform: none\; widows: 2\; word-spacing: 0px\; -webkit-text-stroke-width: 0px\; white-space: normal\; background-color: rgb(255\, 255\, 255)\; text-decoration-thickness: initial\; text-decoration-style: initial\; text-decoration-color: initial\;">Adopt a River was started by BWL in 1994 to restore pride in one of our area&rsquo\;s great natural resources. The event encourages businesses\, unions\, schools and civic groups to adopt sections of the Grand and Red Cedar rivers and to keep their banks and nearby areas clean and free from litter.</p><p style="box-sizing: inherit\; color: rgb(0\, 0\, 0)\; font-family: proxima-nova\, sans-serif\; font-size: 19px\; font-style: normal\; font-variant-ligatures: normal\; font-variant-caps: normal\; font-weight: 400\; letter-spacing: normal\; orphans: 2\; text-align: start\; text-indent: 0px\; text-transform: none\; widows: 2\; word-spacing: 0px\; -webkit-text-stroke-width: 0px\; white-space: normal\; background-color: rgb(255\, 255\, 255)\; text-decoration-thickness: initial\; text-decoration-style: initial\; text-decoration-color: initial\;">Help us keep our local rivers and adjacent spaces beautiful! As a participant\, please:<br style="box-sizing: inherit\;">- Bring your own gloves for clean-up</p><p style="box-sizing: inherit\; color: rgb(0\, 0\, 0)\; font-family: proxima-nova\, sans-serif\; font-size: 19px\; font-style: normal\; font-variant-ligatures: normal\; font-variant-caps: normal\; font-weight: 400\; letter-spacing: normal\; orphans: 2\; text-align: start\; text-indent: 0px\; text-transform: none\; widows: 2\; word-spacing: 0px\; -webkit-text-stroke-width: 0px\; white-space: normal\; background-color: rgb(255\, 255\, 255)\; text-decoration-thickness: initial\; text-decoration-style: initial\; text-decoration-color: initial\;">Schedule:<br style="box-sizing: inherit\;">- River Clean-up from 8:30am - 11am</p><p style="box-sizing: inherit\; color: rgb(0\, 0\, 0)\; font-family: proxima-nova\, sans-serif\; font-size: 19px\; font-style: normal\; font-variant-ligatures: normal\; font-variant-caps: normal\; font-weight: 400\; letter-spacing: normal\; orphans: 2\; text-align: start\; text-indent: 0px\; text-transform: none\; widows: 2\; word-spacing: 0px\; -webkit-text-stroke-width: 0px\; white-space: normal\; background-color: rgb(255\, 255\, 255)\; text-decoration-thickness: initial\; text-decoration-style: initial\; text-decoration-color: initial\;">Since the program began\, nearly 500 Adopt a River volunteers each year have cleared thousands of pounds of litter from the rivers and banks. They are a major reason why Lansing resources are being returned to their natural beauty and why the event has been award winning\, setting an example for other communities to follow.</p><p style="box-sizing: inherit\; color: rgb(0\, 0\, 0)\; font-family: proxima-nova\, sans-serif\; font-size: 19px\; font-style: normal\; font-variant-ligatures: normal\; font-variant-caps: normal\; font-weight: 400\; letter-spacing: normal\; orphans: 2\; text-align: start\; text-indent: 0px\; text-transform: none\; widows: 2\; word-spacing: 0px\; -webkit-text-stroke-width: 0px\; white-space: normal\; background-color: rgb(255\, 255\, 255)\; text-decoration-thickness: initial\; text-decoration-style: initial\; text-decoration-color: initial\;">For more information or to sign up for the next river cleanup\, please call: Erik Larson\, Impression 5 Science Center\,&nbsp\;<a fr-original-style="box-sizing: inherit\; background-color: transparent\; color: rgb(3\, 98\, 155)\; text-decoration: underline\;" href="tel:1-517-485-8116" style="box-sizing: inherit\; background-color: transparent\; color: rgb(3\, 98\, 155)\; text-decoration: underline\; user-select: auto\;">517-485-8116</a> ext. 143 or visit <a fr-original-style="box-sizing: inherit\; background-color: transparent\; color: rgb(3\, 98\, 155)\; text-decoration: underline\;" href="http://www.impression5.org/" rel="noopener noreferrer" style="box-sizing: inherit\; background-color: transparent\; color: rgb(3\, 98\, 155)\; text-decoration: underline\; user-select: auto\;" target="_blank">www.impression5.org</a>.</p></body></html>
LOCATION:200 Museum Dr. Lansing MI 48933
UID:e.1312.1444286
SEQUENCE:3
DTSTAMP:20260423T175710Z
URL:https://members.lansingchamber.org/athenawineventcalendar/Details/adopt-a-river-community-clean-up-1710653?sourceTypeId=Hub
END:VEVENT
END:VCALENDAR
