BEGIN:VCALENDAR
VERSION:2.0
PRODID:-//ChamberMaster//Event Calendar 2.0//EN
METHOD:PUBLISH
X-PUBLISHED-TTL:P1H
REFRESH-INTERVAL:P1H
CALSCALE:GREGORIAN
BEGIN:VTIMEZONE
TZID:America/New_York
BEGIN:DAYLIGHT
RRULE:FREQ=YEARLY;BYMONTH=3;BYDAY=2SU
DTSTART:20070101T000000
TZOFFSETFROM:-0500
TZOFFSETTO:-0400
TZNAME:Eastern Daylight Time
END:DAYLIGHT
BEGIN:STANDARD
RRULE:FREQ=YEARLY;BYMONTH=11;BYDAY=1SU
DTSTART:20070101T000000
TZOFFSETFROM:-0400
TZOFFSETTO:-0500
TZNAME:Eastern Standard Time
END:STANDARD
END:VTIMEZONE
BEGIN:VEVENT
DTSTART;TZID=America/New_York:20260509T150000
DTEND;TZID=America/New_York:20260509T200000
X-MICROSOFT-CDO-ALLDAYEVENT:FALSE
SUMMARY:Beerfest st the BallPark
DESCRIPTION:Beerfest at the Ballpark is an outdoor festival located at Jackson Field\, home of the Lansing Lugnuts. This festival features 300+ different beers\, ciders\, hard seltzers\, meads\, spirits & wines. The festival also features live music\, other vendors\, and food from the Lugnuts concession stands.Proceeds Benefit Friends of The RiverFriends of the River is a 501(c)(3) non-profit that works to improve water quality\, access\, and awareness on rivers in Michigan.WhenSaturday\, May 9 2026\, 3:00 - 8:00pm\n\nLearn More at: Home | Beerfest at the Ballpark
X-ALT-DESC;FMTTYPE=text/html:<!DOCTYPE html><html><head><title></title></head><body aria-disabled="false"><p>Beerfest at the Ballpark is an outdoor festival located at Jackson Field\, home of the Lansing Lugnuts. This festival features 300+ different beers\, ciders\, hard seltzers\, meads\, spirits &amp\; wines. The festival also features live music\, other vendors\, and food from the Lugnuts concession stands.</p><p>Proceeds Benefit Friends of The River</p><p>Friends of the River is a 501(c)(3) non-profit that works to improve water quality\, access\, and awareness on rivers in Michigan.</p><p>When</p><p>Saturday\, May 9 2026\, 3:00 - 8:00pm<br><br>Learn More at:&nbsp\;<a fr-original-style="" href="https://beerfestattheballpark.com/" style="user-select: auto\;">Home | Beerfest at the Ballpark</a>&nbsp\;</p></body></html>
LOCATION:505 E. Michigan Ave. Lansing MI 48912
UID:e.1312.1445119
SEQUENCE:3
DTSTAMP:20260423T175848Z
URL:https://members.lansingchamber.org/athenawineventcalendar/Details/beerfest-st-the-ballpark-1711613?sourceTypeId=Hub
END:VEVENT
END:VCALENDAR
