BEGIN:VCALENDAR
VERSION:2.0
PRODID:-//ChamberMaster//Event Calendar 2.0//EN
METHOD:PUBLISH
X-PUBLISHED-TTL:P1H
REFRESH-INTERVAL:P1H
CALSCALE:GREGORIAN
BEGIN:VTIMEZONE
TZID:America/New_York
BEGIN:DAYLIGHT
RRULE:FREQ=YEARLY;BYMONTH=3;BYDAY=2SU
DTSTART:20070101T000000
TZOFFSETFROM:-0500
TZOFFSETTO:-0400
TZNAME:Eastern Daylight Time
END:DAYLIGHT
BEGIN:STANDARD
RRULE:FREQ=YEARLY;BYMONTH=11;BYDAY=1SU
DTSTART:20070101T000000
TZOFFSETFROM:-0400
TZOFFSETTO:-0500
TZNAME:Eastern Standard Time
END:STANDARD
END:VTIMEZONE
BEGIN:VEVENT
DTSTART;TZID=America/New_York:20261121T190000
DTEND;TZID=America/New_York:20261121T220000
X-MICROSOFT-CDO-ALLDAYEVENT:FALSE
SUMMARY:Big Red Ball
DESCRIPTION:The Big Red Ball is Downtown Lansing's premier fundraising and social event celebrating the meaningful momentum happening in our neighborhood while paying tribute to the stories\, places\, and people that define Michigan's Downtown. Surrounded by exhibits\, artifacts and moments that capture our state's rich history\, this special evening highlights downtown's crucial role at the center of culture\, creativity\, and connection. By bringing together the diversity and innovation that make each part of our State unique\, we honor beloved traditions while celebrating the forward-thinking ideas shaping the future of Michigan's Downtown\, starting right here in the Capital City!Learn More at: Big Red Ball | Downtown Lansing Inc
X-ALT-DESC;FMTTYPE=text/html:<!DOCTYPE html><html><head><title></title></head><body aria-disabled="false"><div style='box-sizing: border-box\; max-width: 100%\; margin-block: 80px\; color: rgb(59\, 59\, 59)\; font-family: "DM Sans"\, sans-serif\; font-size: 17.136px\; font-style: normal\; font-variant-ligatures: normal\; font-variant-caps: normal\; font-weight: 300\; letter-spacing: normal\; orphans: 2\; text-align: start\; text-indent: 0px\; text-transform: none\; widows: 2\; word-spacing: 0px\; -webkit-text-stroke-width: 0px\; white-space: normal\; background-color: rgb(249\, 249\, 242)\; text-decoration-thickness: initial\; text-decoration-style: initial\; text-decoration-color: initial\;'><div style="box-sizing: border-box\;"><div style="box-sizing: border-box\;"><p style="box-sizing: border-box\; margin-top: 0px\; margin-bottom: 1rem !important\;">The Big Red Ball is Downtown Lansing&rsquo\;s premier fundraising and social event celebrating the meaningful momentum happening in our neighborhood while paying tribute to the stories\, places\, and people that define Michigan&rsquo\;s Downtown. Surrounded by exhibits\, artifacts and moments that capture our state&rsquo\;s rich history\, this special evening highlights downtown&rsquo\;s crucial role at the center of culture\, creativity\, and connection. By bringing together the diversity and innovation that make each part of our State unique\, we honor beloved traditions while celebrating the forward-thinking ideas shaping the future of Michigan&rsquo\;s Downtown\, starting right here in the Capital City!</p><p style="box-sizing: border-box\; margin-top: 0px\; margin-bottom: 1rem !important\;">Learn More at: <a fr-original-style="" href="https://www.downtownlansing.org/events/big-red-ball" style="user-select: auto\;">Big Red Ball | Downtown Lansing Inc</a></p></div></div></div><p><br></p></body></html>
LOCATION:702 W Kalamazoo St Lansing MI 48915
UID:e.1312.1445116
SEQUENCE:3
DTSTAMP:20260423T175704Z
URL:https://members.lansingchamber.org/athenawineventcalendar/Details/big-red-ball-1711610?sourceTypeId=Hub
END:VEVENT
END:VCALENDAR
