BEGIN:VCALENDAR
VERSION:2.0
PRODID:-//ChamberMaster//Event Calendar 2.0//EN
METHOD:PUBLISH
X-PUBLISHED-TTL:P1H
REFRESH-INTERVAL:P1H
CALSCALE:GREGORIAN
BEGIN:VTIMEZONE
TZID:America/New_York
BEGIN:DAYLIGHT
RRULE:FREQ=YEARLY;BYMONTH=3;BYDAY=2SU
DTSTART:20070101T000000
TZOFFSETFROM:-0500
TZOFFSETTO:-0400
TZNAME:Eastern Daylight Time
END:DAYLIGHT
BEGIN:STANDARD
RRULE:FREQ=YEARLY;BYMONTH=11;BYDAY=1SU
DTSTART:20070101T000000
TZOFFSETFROM:-0400
TZOFFSETTO:-0500
TZNAME:Eastern Standard Time
END:STANDARD
END:VTIMEZONE
BEGIN:VEVENT
DTSTART;TZID=America/New_York:20260401T000000
DTEND;TZID=America/New_York:20260430T000000
X-MICROSOFT-CDO-ALLDAYEVENT:FALSE
SUMMARY:Michigan State University Science Festival
DESCRIPTION:A free festival for lifelong learners of all ages!The MSU Science Festival is a free annual celebration of science\, fueled by some of the basic elements essential to scientific inquiry: curiosity\, wonder\, and discovery.With events for the whole family to enjoy\, the MSU Science Festival explores topics ranging from the ordinary to the extraordinary. From astronomy to music\, and chemistry to microbiology\; scientists and educators across the state are eager to share the wonder of science\, technology\, engineering\, art\, and mathematics.Learn More: https://sciencefestival.msu.edu/
X-ALT-DESC;FMTTYPE=text/html:<!DOCTYPE html><html><head><title></title></head><body aria-disabled="false"><p>A free festival for lifelong learners of all ages!</p><p>The MSU Science Festival is a free annual celebration of science\, fueled by some of the basic elements essential to scientific inquiry: curiosity\, wonder\, and discovery.</p><p>With events for the whole family to enjoy\, the MSU Science Festival explores topics ranging from the ordinary to the extraordinary. From astronomy to music\, and chemistry to microbiology\; scientists and educators across the state are eager to share the wonder of science\, technology\, engineering\, art\, and mathematics.</p><p>Learn More: <a fr-original-style="" href="https://sciencefestival.msu.edu/" style="user-select: auto\;">https://sciencefestival.msu.edu/</a></p></body></html>
LOCATION:
UID:e.1312.1442173
SEQUENCE:3
DTSTAMP:20260423T175848Z
URL:https://members.lansingchamber.org/athenawineventcalendar/Details/michigan-state-university-science-festival-1708027?sourceTypeId=Hub
END:VEVENT
END:VCALENDAR
