BEGIN:VCALENDAR
VERSION:2.0
PRODID:-//ChamberMaster//Event Calendar 2.0//EN
METHOD:PUBLISH
X-PUBLISHED-TTL:P1H
REFRESH-INTERVAL:P1H
CALSCALE:GREGORIAN
BEGIN:VTIMEZONE
TZID:America/New_York
BEGIN:DAYLIGHT
RRULE:FREQ=YEARLY;BYMONTH=3;BYDAY=2SU
DTSTART:20070101T000000
TZOFFSETFROM:-0500
TZOFFSETTO:-0400
TZNAME:Eastern Daylight Time
END:DAYLIGHT
BEGIN:STANDARD
RRULE:FREQ=YEARLY;BYMONTH=11;BYDAY=1SU
DTSTART:20070101T000000
TZOFFSETFROM:-0400
TZOFFSETTO:-0500
TZNAME:Eastern Standard Time
END:STANDARD
END:VTIMEZONE
BEGIN:VEVENT
DTSTART;TZID=America/New_York:20260430T110000
DTEND;TZID=America/New_York:20260430T120000
X-MICROSOFT-CDO-ALLDAYEVENT:FALSE
SUMMARY:Planning the Exit: Key Transitional Services for a Successful Business Transition
DESCRIPTION:Planning your next business transition?Transitioning out of a business or leadership role takes more than signing an agreement   it requires strategic planning to protect your company's value\, people and operations. Join Jeff Allen\, CPA\, ABV\, principal\, and Matt Latham\, CPA\, CEPA\, principal\, as they discuss key transactional services to consider when preparing for an exit\, including leadership continuity\, financial readiness\, risk management and exit planning for owners and executives.Register today to learn how to plan a smooth\, successful transition for your business.Register here: https://zoom.us/webinar/register/4717748744927/WN_Bbo0l76eTWW_oV3V7gqEzw
X-ALT-DESC;FMTTYPE=text/html:<!DOCTYPE html><html><head><title></title></head><body aria-disabled="false"><p>Planning your next business transition?</p><p>Transitioning out of a business or leadership role takes more than signing an agreement &mdash\; it requires strategic planning to protect your company&rsquo\;s value\, people and operations. Join Jeff Allen\, CPA\, ABV\, principal\, and Matt Latham\, CPA\, CEPA\, principal\, as they discuss key transactional services to consider when preparing for an exit\, including leadership continuity\, financial readiness\, risk management and exit planning for owners and executives.</p><p>Register today to learn how to plan a smooth\, successful transition for your business.</p><p>Register here: <a fr-original-style="" href="https://zoom.us/webinar/register/4717748744927/WN_Bbo0l76eTWW_oV3V7gqEzw" style="user-select: auto\;">https://zoom.us/webinar/register/4717748744927/WN_Bbo0l76eTWW_oV3V7gqEzw</a></p></body></html>
LOCATION:
UID:e.1312.1431891
SEQUENCE:3
DTSTAMP:20260423T175709Z
URL:https://members.lansingchamber.org/athenawineventcalendar/Details/planning-the-exit-key-transitional-services-for-a-successful-business-transition-1694688?sourceTypeId=Hub
END:VEVENT
END:VCALENDAR
