BEGIN:VCALENDAR
VERSION:2.0
PRODID:-//ChamberMaster//Event Calendar 2.0//EN
METHOD:PUBLISH
X-PUBLISHED-TTL:P1H
REFRESH-INTERVAL:P1H
CALSCALE:GREGORIAN
BEGIN:VTIMEZONE
TZID:America/New_York
BEGIN:DAYLIGHT
RRULE:FREQ=YEARLY;BYMONTH=3;BYDAY=2SU
DTSTART:20070101T000000
TZOFFSETFROM:-0500
TZOFFSETTO:-0400
TZNAME:Eastern Daylight Time
END:DAYLIGHT
BEGIN:STANDARD
RRULE:FREQ=YEARLY;BYMONTH=11;BYDAY=1SU
DTSTART:20070101T000000
TZOFFSETFROM:-0400
TZOFFSETTO:-0500
TZNAME:Eastern Standard Time
END:STANDARD
END:VTIMEZONE
BEGIN:VEVENT
DTSTART;TZID=America/New_York:20260523T000000
DTEND;TZID=America/New_York:20260524T000000
X-MICROSOFT-CDO-ALLDAYEVENT:FALSE
SUMMARY:Sikh Festival and Parade
DESCRIPTION:Sikh Day Parade & Festival is a vibrant cultural event featuring a parade\, live music\, dancing\, kids' activities\, and free Indian food to celebrate Sikh values and educate the community. It's a significant local tradition that started to foster understanding\, with events including street closures downtown for the parade route. What to Expect:Cultural Immersion: Experience Sikh traditions with music\, dance\, and educational displays.Free Food (Langar): A hallmark of the festival is serving free Indian food to all attendees\, reflecting Sikh principles of service.Community Focus: A chance for Sikhs and the wider Lansing community to connect and learn about Sikhism's emphasis on justice\, helping others\, and love.Family-Friendly: Includes activities like inflatables for children. Event Details (General):Location: Primarily Adado Riverfront Park\, with parade routes impacting downtown Lansing streets.Timing: Usually a Saturday in May\, from late morning to early evening.Cost: Free admission.
X-ALT-DESC;FMTTYPE=text/html:<!DOCTYPE html><html><head><title></title></head><body aria-disabled="false"><p style='box-sizing: border-box\; margin-top: 0px\; margin-bottom: 1rem !important\; color: rgb(59\, 59\, 59)\; font-family: "DM Sans"\, sans-serif\; font-size: 16px\; font-style: normal\; font-variant-ligatures: normal\; font-variant-caps: normal\; font-weight: 300\; letter-spacing: normal\; orphans: 2\; text-align: start\; text-indent: 0px\; text-transform: none\; widows: 2\; word-spacing: 0px\; -webkit-text-stroke-width: 0px\; white-space: normal\; background-color: rgb(249\, 249\, 242)\; text-decoration-thickness: initial\; text-decoration-style: initial\; text-decoration-color: initial\;'>Sikh Day Parade&nbsp\;<span style="box-sizing: border-box\;">&amp\;</span> Festival is a vibrant cultural event featuring a parade\, live music\, dancing\, kids&rsquo\; activities\, and free Indian food to celebrate Sikh values and educate the community. It&rsquo\;s a significant local tradition that started to foster understanding\, with events including street closures downtown for the parade route.&nbsp\;</p><p style='box-sizing: border-box\; margin-top: 0px\; margin-bottom: 1rem !important\; color: rgb(59\, 59\, 59)\; font-family: "DM Sans"\, sans-serif\; font-size: 16px\; font-style: normal\; font-variant-ligatures: normal\; font-variant-caps: normal\; font-weight: 300\; letter-spacing: normal\; orphans: 2\; text-align: start\; text-indent: 0px\; text-transform: none\; widows: 2\; word-spacing: 0px\; -webkit-text-stroke-width: 0px\; white-space: normal\; background-color: rgb(249\, 249\, 242)\; text-decoration-thickness: initial\; text-decoration-style: initial\; text-decoration-color: initial\;'><strong fr-original-style="box-sizing: border-box\; font-weight: bolder\;" style="box-sizing: border-box\; font-weight: bolder\;">What to&nbsp\;Expect:</strong></p><ul fr-original-style='box-sizing: border-box\; padding-left: 2rem\; margin-top: 0px\; margin-bottom: 1rem\; color: rgb(59\, 59\, 59)\; font-family: "DM Sans"\, sans-serif\; font-size: 16px\; font-style: normal\; font-variant-ligatures: normal\; font-variant-caps: normal\; font-weight: 300\; letter-spacing: normal\; orphans: 2\; text-align: start\; text-indent: 0px\; text-transform: none\; widows: 2\; word-spacing: 0px\; -webkit-text-stroke-width: 0px\; white-space: normal\; background-color: rgb(249\, 249\, 242)\; text-decoration-thickness: initial\; text-decoration-style: initial\; text-decoration-color: initial\;' style='box-sizing: border-box\; padding-left: 2rem\; margin-top: 0px\; margin-bottom: 1rem\; color: rgb(59\, 59\, 59)\; font-family: "DM Sans"\, sans-serif\; font-size: 16px\; font-style: normal\; font-variant-ligatures: normal\; font-variant-caps: normal\; font-weight: 300\; letter-spacing: normal\; orphans: 2\; text-align: start\; text-indent: 0px\; text-transform: none\; widows: 2\; word-spacing: 0px\; -webkit-text-stroke-width: 0px\; white-space: normal\; background-color: rgb(249\, 249\, 242)\; text-decoration-thickness: initial\; text-decoration-style: initial\; text-decoration-color: initial\; list-style-position: inside\;'><li style="box-sizing: border-box\;"><strong fr-original-style="box-sizing: border-box\; font-weight: bolder\;" style="box-sizing: border-box\; font-weight: bolder\;">Cultural Immersion:</strong> Experience Sikh traditions with music\, dance\, and educational&nbsp\;displays.</li><li style="box-sizing: border-box\;"><strong fr-original-style="box-sizing: border-box\; font-weight: bolder\;" style="box-sizing: border-box\; font-weight: bolder\;">Free Food (Langar):</strong> A hallmark of the festival is serving free Indian food to all attendees\, reflecting Sikh principles of&nbsp\;service.</li><li style="box-sizing: border-box\;"><strong fr-original-style="box-sizing: border-box\; font-weight: bolder\;" style="box-sizing: border-box\; font-weight: bolder\;">Community Focus:</strong> A chance for Sikhs and the wider Lansing community to connect and learn about Sikhism&rsquo\;s emphasis on justice\, helping others\, and&nbsp\;love.</li><li style="box-sizing: border-box\;"><strong fr-original-style="box-sizing: border-box\; font-weight: bolder\;" style="box-sizing: border-box\; font-weight: bolder\;">Family-Friendly:</strong> Includes activities like inflatables for children.&nbsp\;</li></ul><p style='box-sizing: border-box\; margin-top: 0px\; margin-bottom: 1rem !important\; color: rgb(59\, 59\, 59)\; font-family: "DM Sans"\, sans-serif\; font-size: 16px\; font-style: normal\; font-variant-ligatures: normal\; font-variant-caps: normal\; font-weight: 300\; letter-spacing: normal\; orphans: 2\; text-align: start\; text-indent: 0px\; text-transform: none\; widows: 2\; word-spacing: 0px\; -webkit-text-stroke-width: 0px\; white-space: normal\; background-color: rgb(249\, 249\, 242)\; text-decoration-thickness: initial\; text-decoration-style: initial\; text-decoration-color: initial\;'><strong fr-original-style="box-sizing: border-box\; font-weight: bolder\;" style="box-sizing: border-box\; font-weight: bolder\;">Event Details&nbsp\;(General):</strong></p><ul fr-original-style='box-sizing: border-box\; padding-left: 2rem\; margin-top: 0px\; margin-bottom: 1rem\; color: rgb(59\, 59\, 59)\; font-family: "DM Sans"\, sans-serif\; font-size: 16px\; font-style: normal\; font-variant-ligatures: normal\; font-variant-caps: normal\; font-weight: 300\; letter-spacing: normal\; orphans: 2\; text-align: start\; text-indent: 0px\; text-transform: none\; widows: 2\; word-spacing: 0px\; -webkit-text-stroke-width: 0px\; white-space: normal\; background-color: rgb(249\, 249\, 242)\; text-decoration-thickness: initial\; text-decoration-style: initial\; text-decoration-color: initial\;' style='box-sizing: border-box\; padding-left: 2rem\; margin-top: 0px\; margin-bottom: 1rem\; color: rgb(59\, 59\, 59)\; font-family: "DM Sans"\, sans-serif\; font-size: 16px\; font-style: normal\; font-variant-ligatures: normal\; font-variant-caps: normal\; font-weight: 300\; letter-spacing: normal\; orphans: 2\; text-align: start\; text-indent: 0px\; text-transform: none\; widows: 2\; word-spacing: 0px\; -webkit-text-stroke-width: 0px\; white-space: normal\; background-color: rgb(249\, 249\, 242)\; text-decoration-thickness: initial\; text-decoration-style: initial\; text-decoration-color: initial\; list-style-position: inside\;'><li style="box-sizing: border-box\;"><strong fr-original-style="box-sizing: border-box\; font-weight: bolder\;" style="box-sizing: border-box\; font-weight: bolder\;">Location:</strong> Primarily Adado Riverfront Park\, with parade routes impacting downtown Lansing&nbsp\;streets.</li><li style="box-sizing: border-box\;"><strong fr-original-style="box-sizing: border-box\; font-weight: bolder\;" style="box-sizing: border-box\; font-weight: bolder\;">Timing:</strong> Usually a Saturday in May\, from late morning to early&nbsp\;evening.</li><li style="box-sizing: border-box\;"><strong fr-original-style="box-sizing: border-box\; font-weight: bolder\;" style="box-sizing: border-box\; font-weight: bolder\;">Cost:</strong> Free admission.&nbsp\;</li></ul></body></html>
LOCATION:201 E Shiawassee St Lansing MI 48933
UID:e.1312.1445123
SEQUENCE:3
DTSTAMP:20260423T175842Z
URL:https://members.lansingchamber.org/athenawineventcalendar/Details/sikh-festival-and-parade-1711620?sourceTypeId=Hub
END:VEVENT
END:VCALENDAR
