BEGIN:VCALENDAR
VERSION:2.0
PRODID:-//ChamberMaster//Event Calendar 2.0//EN
METHOD:PUBLISH
X-PUBLISHED-TTL:P1H
REFRESH-INTERVAL:P1H
CALSCALE:GREGORIAN
BEGIN:VTIMEZONE
TZID:America/New_York
BEGIN:DAYLIGHT
RRULE:FREQ=YEARLY;BYMONTH=3;BYDAY=2SU
DTSTART:20070101T000000
TZOFFSETFROM:-0500
TZOFFSETTO:-0400
TZNAME:Eastern Daylight Time
END:DAYLIGHT
BEGIN:STANDARD
RRULE:FREQ=YEARLY;BYMONTH=11;BYDAY=1SU
DTSTART:20070101T000000
TZOFFSETFROM:-0400
TZOFFSETTO:-0500
TZNAME:Eastern Standard Time
END:STANDARD
END:VTIMEZONE
BEGIN:VEVENT
DTSTART;TZID=America/New_York:20260718T080000
DTEND;TZID=America/New_York:20260718T170000
X-MICROSOFT-CDO-ALLDAYEVENT:FALSE
SUMMARY:The R. E. Olds Museum’s 33rd Annual Car Capital Auto Show
DESCRIPTION:The R.E. Olds Transportation Museum's Car Capital Auto Show motors into Downtown Lansing to provide a premier auto show to the public. Thousands of spectators and 225 registered vehicles are anticipated for this year's event. This year's event will also include a special "Lansing's Auto Revolution" section featuring vehicles produced pre-1940 by Durant\, Oldsmobile\, and REO Motor Car Company. This free\, non-profit\, family-friendly outdoor show.Website Information:  https://www.reoldsmuseum.org/events/auto-show/
X-ALT-DESC;FMTTYPE=text/html:<!DOCTYPE html><html><head><title></title></head><body aria-disabled="false"><p>The R.E. Olds Transportation Museum&rsquo\;s Car Capital Auto Show motors into Downtown Lansing to provide a premier auto show to the public. Thousands of spectators and 225 registered vehicles are anticipated for this year&rsquo\;s event. This year&rsquo\;s event will also include a special &ldquo\;Lansing&rsquo\;s Auto Revolution&rdquo\; section featuring vehicles produced pre-1940 by Durant\, Oldsmobile\, and REO Motor Car Company. This free\, non-profit\, family-friendly outdoor show.</p><p>Website Information: &nbsp\;https://www.reoldsmuseum.org/events/auto-show/</p></body></html>
LOCATION:
UID:e.1312.1444301
SEQUENCE:3
DTSTAMP:20260423T180118Z
URL:https://members.lansingchamber.org/athenawineventcalendar/Details/the-r-e-olds-museum-s-33rd-annual-car-capital-auto-show-1710667?sourceTypeId=Hub
END:VEVENT
END:VCALENDAR
