BEGIN:VCALENDAR
VERSION:2.0
PRODID:-//ChamberMaster//Event Calendar 2.0//EN
METHOD:PUBLISH
X-PUBLISHED-TTL:P1H
REFRESH-INTERVAL:P1H
CALSCALE:GREGORIAN
BEGIN:VTIMEZONE
TZID:America/New_York
BEGIN:DAYLIGHT
RRULE:FREQ=YEARLY;BYMONTH=3;BYDAY=2SU
DTSTART:20070101T000000
TZOFFSETFROM:-0500
TZOFFSETTO:-0400
TZNAME:Eastern Daylight Time
END:DAYLIGHT
BEGIN:STANDARD
RRULE:FREQ=YEARLY;BYMONTH=11;BYDAY=1SU
DTSTART:20070101T000000
TZOFFSETFROM:-0400
TZOFFSETTO:-0500
TZNAME:Eastern Standard Time
END:STANDARD
END:VTIMEZONE
BEGIN:VEVENT
DTSTART;TZID=America/New_York:20260811T130000
DTEND;TZID=America/New_York:20260811T150000
X-MICROSOFT-CDO-ALLDAYEVENT:FALSE
SUMMARY:Lansing Mini Open
DESCRIPTION:Grab your foursome and join us for a laid-back\, team-focused competition at The Little Hawk Putt-Putt Course! Enjoy 18 holes of miniature golf\, designed for all experience levels. Following your round\, head over to the Eagle Eye Banquet Center for a casual networking reception featuring appetizers\, desserts\, and the announcement of team scores and prizes - the perfect way to wrap up a memorable company outing.
X-ALT-DESC;FMTTYPE=text/html:<!DOCTYPE html><html><head><title></title></head><body aria-disabled="false"><p><span data-olk-copy-source="MailCompose" style="font-family: Aptos\, Aptos_EmbeddedFont\, Aptos_MSFontService\, Calibri\, Helvetica\, sans-serif\; font-size: 18px\; color: black\;">Grab your foursome and join us for a laid-back\, team-focused competition at The Little Hawk Putt-Putt Course! Enjoy 18 holes of miniature golf\, designed for all experience levels. Following your round\, head over to the Eagle Eye Banquet Center for a casual networking reception featuring appetizers\, desserts\, and the announcement of team scores and prizes - the perfect way to wrap up a memorable company outing.</span></p></body></html>
LOCATION:15101 Chandler Rd Bath Township MI 48808
UID:e.1312.1318029
SEQUENCE:3
DTSTAMP:20260419T135238Z
URL:https://members.lansingchamber.org/athenawineventcalendar/Details/lansing-mini-open-1545261?sourceTypeId=Hub
END:VEVENT
END:VCALENDAR
